BEGIN:VCALENDAR
VERSION:2.0
PRODID:-//Schule - ECPv6.15.17.1//NONSGML v1.0//EN
CALSCALE:GREGORIAN
METHOD:PUBLISH
X-WR-CALNAME:Schule
X-ORIGINAL-URL:https://ahg-ahaus.de
X-WR-CALDESC:Veranstaltungen für Schule
REFRESH-INTERVAL;VALUE=DURATION:PT1H
X-Robots-Tag:noindex
X-PUBLISHED-TTL:PT1H
BEGIN:VTIMEZONE
TZID:Europe/Berlin
BEGIN:DAYLIGHT
TZOFFSETFROM:+0100
TZOFFSETTO:+0200
TZNAME:CEST
DTSTART:20230326T010000
END:DAYLIGHT
BEGIN:STANDARD
TZOFFSETFROM:+0200
TZOFFSETTO:+0100
TZNAME:CET
DTSTART:20231029T010000
END:STANDARD
BEGIN:DAYLIGHT
TZOFFSETFROM:+0100
TZOFFSETTO:+0200
TZNAME:CEST
DTSTART:20240331T010000
END:DAYLIGHT
BEGIN:STANDARD
TZOFFSETFROM:+0200
TZOFFSETTO:+0100
TZNAME:CET
DTSTART:20241027T010000
END:STANDARD
BEGIN:DAYLIGHT
TZOFFSETFROM:+0100
TZOFFSETTO:+0200
TZNAME:CEST
DTSTART:20250330T010000
END:DAYLIGHT
BEGIN:STANDARD
TZOFFSETFROM:+0200
TZOFFSETTO:+0100
TZNAME:CET
DTSTART:20251026T010000
END:STANDARD
END:VTIMEZONE
BEGIN:VEVENT
DTSTART;TZID=Europe/Berlin:20240909T074500
DTEND;TZID=Europe/Berlin:20240909T125500
DTSTAMP:20260420T051455
CREATED:20240821T103621Z
LAST-MODIFIED:20240829T170209Z
UID:16470-1725867900-1725886500@ahg-ahaus.de
SUMMARY:Aktion zur Stärkung der Klassengemeinschaft\, eine 6. Klasse
DESCRIPTION:
URL:https://ahg-ahaus.de/event/aktion-zur-staerkung-der-klassengemeinschaft-eine-6-klasse/
CATEGORIES:Jahresterminplan
END:VEVENT
BEGIN:VEVENT
DTSTART;TZID=Europe/Berlin:20240909T190000
DTEND;TZID=Europe/Berlin:20240909T200000
DTSTAMP:20260420T051455
CREATED:20240821T103622Z
LAST-MODIFIED:20240829T170209Z
UID:16471-1725908400-1725912000@ahg-ahaus.de
SUMMARY:Klassenpflegschaftssitzungen - internat. Klassen
DESCRIPTION:
URL:https://ahg-ahaus.de/event/klassenpflegschaftssitzungen-internat-klassen/
CATEGORIES:Jahresterminplan
END:VEVENT
END:VCALENDAR