BEGIN:VCALENDAR
VERSION:2.0
PRODID:-//Schule - ECPv6.15.17.1//NONSGML v1.0//EN
CALSCALE:GREGORIAN
METHOD:PUBLISH
X-WR-CALNAME:Schule
X-ORIGINAL-URL:https://ahg-ahaus.de
X-WR-CALDESC:Veranstaltungen für Schule
REFRESH-INTERVAL;VALUE=DURATION:PT1H
X-Robots-Tag:noindex
X-PUBLISHED-TTL:PT1H
BEGIN:VTIMEZONE
TZID:Europe/Berlin
BEGIN:DAYLIGHT
TZOFFSETFROM:+0100
TZOFFSETTO:+0200
TZNAME:CEST
DTSTART:20220327T010000
END:DAYLIGHT
BEGIN:STANDARD
TZOFFSETFROM:+0200
TZOFFSETTO:+0100
TZNAME:CET
DTSTART:20221030T010000
END:STANDARD
BEGIN:DAYLIGHT
TZOFFSETFROM:+0100
TZOFFSETTO:+0200
TZNAME:CEST
DTSTART:20230326T010000
END:DAYLIGHT
BEGIN:STANDARD
TZOFFSETFROM:+0200
TZOFFSETTO:+0100
TZNAME:CET
DTSTART:20231029T010000
END:STANDARD
BEGIN:DAYLIGHT
TZOFFSETFROM:+0100
TZOFFSETTO:+0200
TZNAME:CEST
DTSTART:20240331T010000
END:DAYLIGHT
BEGIN:STANDARD
TZOFFSETFROM:+0200
TZOFFSETTO:+0100
TZNAME:CET
DTSTART:20241027T010000
END:STANDARD
END:VTIMEZONE
BEGIN:VEVENT
DTSTART;VALUE=DATE:20230807
DTEND;VALUE=DATE:20230808
DTSTAMP:20260419T151150
CREATED:20230805T163601Z
LAST-MODIFIED:20230807T132125Z
UID:4034-1691366400-1691452799@ahg-ahaus.de
SUMMARY:1. Schultag
DESCRIPTION:
URL:https://ahg-ahaus.de/event/1-schultag/
CATEGORIES:Jahresterminplan
END:VEVENT
BEGIN:VEVENT
DTSTART;VALUE=DATE:20230807
DTEND;VALUE=DATE:20230808
DTSTAMP:20260419T151150
CREATED:20230805T163602Z
LAST-MODIFIED:20230807T132125Z
UID:4035-1691366400-1691452799@ahg-ahaus.de
SUMMARY:Bücherausgabe 6 - 10 ab 7.45 uhr
DESCRIPTION:
URL:https://ahg-ahaus.de/event/buecherausgabe-6-10-ab-7-45-uhr/
CATEGORIES:Jahresterminplan
END:VEVENT
END:VCALENDAR